BEGIN:VCALENDAR
VERSION:2.0
PRODID:-//wp-events-plugin.com//7.2.3.1//EN
TZID:America/New_York
X-WR-TIMEZONE:America/New_York
BEGIN:VEVENT
UID:442@kingsporthousing.org
DTSTART;TZID=America/New_York;VALUE=DATE:20240119
DTEND;TZID=America/New_York;VALUE=DATE:20240120
DTSTAMP:20240119T034333Z
URL:https://www.kingsporthousing.org/events/khra-offices-closed-inclement-
 weather-2/
SUMMARY:KHRA Offices Closed - Inclement Weather -  - 19 Jan 24 00:00
DESCRIPTION:KHRA Offices will be closed on Friday 1/19 due to inclement wea
 ther.\n
END:VEVENT
BEGIN:VTIMEZONE
TZID:America/New_York
X-LIC-LOCATION:America/New_York
BEGIN:STANDARD
DTSTART:20231105T010000
TZOFFSETFROM:-0400
TZOFFSETTO:-0500
TZNAME:EST
END:STANDARD
END:VTIMEZONE
END:VCALENDAR